BEGIN:VCALENDAR
PRODID:-//eluceo/ical//2.0/EN
VERSION:2.0
CALSCALE:GREGORIAN
BEGIN:VEVENT
UID:1100f6bf2919c5e7ff42d52ad60ff469
DTSTAMP:20260422T215718Z
SUMMARY:Congregation B'nai Shalom 1st day of school
DESCRIPTION:Jewish Federation of Central Massachusetts\nCalendar\nhttps://j
 ewishcentralmass.org/calendar/20cal610\n\nCongregation B'nai Shalom 1st da
 y of school
DTSTART;TZID=America/New_York:20190915T090000
DTEND;TZID=America/New_York:20190915T235959
END:VEVENT
END:VCALENDAR
