BEGIN:VCALENDAR
PRODID:-//eluceo/ical//2.0/EN
VERSION:2.0
CALSCALE:GREGORIAN
BEGIN:VEVENT
UID:fe545d0432f8c12e3cfa0d4b7a700500
DTSTAMP:20260423T154742Z
SUMMARY:Temple Emanuel Sinai Board Workshop
DESCRIPTION:Jewish Federation of Central Massachusetts\nCalendar\nhttps://j
 ewishcentralmass.org/calendar/20cal608\n\nTemple Emanuel Sinai Board Works
 hop
DTSTART;TZID=America/New_York:20190915T090000
DTEND;TZID=America/New_York:20190915T235959
END:VEVENT
END:VCALENDAR
