BEGIN:VCALENDAR
PRODID:-//eluceo/ical//2.0/EN
VERSION:2.0
CALSCALE:GREGORIAN
BEGIN:VEVENT
UID:114466644d51c8954469b2ece05579dc
DTSTAMP:20260423T010636Z
SUMMARY:Jewish Federation of Central Mass Annual Meeting
DESCRIPTION:Jewish Federation of Central Massachusetts\nCalendar\nhttps://j
 ewishcentralmass.org/calendar/20cal606\n\nJewish Federation of Central Mas
 s Annual Meeting
DTSTART;TZID=America/New_York:20190911T184500
DTEND;TZID=America/New_York:20190911T210000
END:VEVENT
END:VCALENDAR
