BEGIN:VCALENDAR
PRODID:-//eluceo/ical//2.0/EN
VERSION:2.0
CALSCALE:GREGORIAN
BEGIN:VEVENT
UID:a8c64a64bd7adfa7369bb431795d6474
DTSTAMP:20260422T102101Z
SUMMARY:Beth Tikvah Board Meeting
DESCRIPTION:Jewish Federation of Central Massachusetts\nCalendar\nhttps://j
 ewishcentralmass.org/calendar/20cal604\n\nBeth Tikvah Board Meeting
DTSTART;TZID=America/New_York:20190910T190000
DTEND;TZID=America/New_York:20190910T235959
END:VEVENT
END:VCALENDAR
