BEGIN:VCALENDAR
PRODID:-//eluceo/ical//2.0/EN
VERSION:2.0
CALSCALE:GREGORIAN
BEGIN:VEVENT
UID:a30d698d6bcf8d3fa5c4f1834cdb0abf
DTSTAMP:20260423T160904Z
SUMMARY:Congregation Beth Israel BBQ
DESCRIPTION:Jewish Federation of Central Massachusetts\nCalendar\nhttps://j
 ewishcentralmass.org/calendar/20cal602\n\nCongregation Beth Israel BBQ
DTSTART;TZID=America/New_York:20190908T120000
DTEND;TZID=America/New_York:20190908T235959
END:VEVENT
END:VCALENDAR
