BEGIN:VCALENDAR
PRODID:-//eluceo/ical//2.0/EN
VERSION:2.0
CALSCALE:GREGORIAN
BEGIN:VEVENT
UID:7e6ec50ea589b0050fdfb12f4cb29ad7
DTSTAMP:20260421T083223Z
SUMMARY:Congregation B'nai Shalom & Beth Tikvah Tot Shabbat Service
DESCRIPTION:Jewish Federation of Central Massachusetts\nCalendar\nhttps://j
 ewishcentralmass.org/calendar/20cal601\n\nCongregation B'nai Shalom & Beth
  Tikvah Tot Shabbat Service
DTSTART;TZID=America/New_York:20190907T101500
DTEND;TZID=America/New_York:20190907T235959
END:VEVENT
END:VCALENDAR
