BEGIN:VCALENDAR
PRODID:-//eluceo/ical//2.0/EN
VERSION:2.0
CALSCALE:GREGORIAN
BEGIN:VEVENT
UID:c60bd9f5fb79cd9fa1b235b731538d80
DTSTAMP:20260423T125916Z
SUMMARY:Congregation B'nai Shalom Prospective Shabbat Service & Open House
DESCRIPTION:Jewish Federation of Central Massachusetts\nCalendar\nhttps://j
 ewishcentralmass.org/calendar/20cal600\n\nCongregation B'nai Shalom Prospe
 ctive Shabbat Service & Open House
DTSTART;TZID=America/New_York:20190906T184500
DTEND;TZID=America/New_York:20190906T235959
END:VEVENT
END:VCALENDAR
