BEGIN:VCALENDAR
PRODID:-//eluceo/ical//2.0/EN
VERSION:2.0
CALSCALE:GREGORIAN
BEGIN:VEVENT
UID:db1ab2b390c002c3365a60d5bd83b56c
DTSTAMP:20260423T001049Z
SUMMARY:2026 Community Yom Haatzmaut Program
DESCRIPTION:Jewish Federation of Central Massachusetts\nCalendar\nhttps://j
 ewishcentralmass.org/calendar/2026-community-yom-haatzmaut-program\n\nYom 
 Haatzmaut Program\n\nMay 13\, 2026\n\n5:00 - 8:00 pm
DTSTART;TZID=America/New_York:20260513T170000
DTEND;TZID=America/New_York:20260513T200000
END:VEVENT
END:VCALENDAR
