BEGIN:VCALENDAR
PRODID:-//eluceo/ical//2.0/EN
VERSION:2.0
CALSCALE:GREGORIAN
BEGIN:VEVENT
UID:5405ace139e0e047c48b654e0b087763
DTSTAMP:20260423T203853Z
SUMMARY:2023 LIFE & LEGACY Conference
DESCRIPTION:Jewish Federation of Central Massachusetts\nCalendar\nhttps://j
 ewishcentralmass.org/calendar/2023-life-legacy-conference\n\n2023 LIFE & L
 EGACY Conference \n\nMay 7\, 8\, 9\, 2020 (Sunday - Tuesday)
DTSTART;TZID=America/New_York:20230507T100000
DTEND;TZID=America/New_York:20230509T180000
END:VEVENT
END:VCALENDAR
