BEGIN:VCALENDAR
PRODID:-//eluceo/ical//2.0/EN
VERSION:2.0
CALSCALE:GREGORIAN
BEGIN:VEVENT
UID:a5a66d15ce9b63327d020daea6014102
DTSTAMP:20260423T140642Z
SUMMARY:2023 Calendar Clearance
DESCRIPTION:Jewish Federation of Central Massachusetts\nCalendar\nhttps://j
 ewishcentralmass.org/calendar/2023-calendar-clearance\n\n2023 Calendar Cle
 arance\n\nJune 20 at 3:00 pm
DTSTART;TZID=America/New_York:20230620T150000
DTEND;TZID=America/New_York:20230620T170000
END:VEVENT
END:VCALENDAR
