BEGIN:VCALENDAR
PRODID:-//eluceo/ical//2.0/EN
VERSION:2.0
CALSCALE:GREGORIAN
BEGIN:VEVENT
UID:f7a43f1ef871ddad4ae34483a45030a4
DTSTAMP:20260423T013106Z
SUMMARY:2022 Calendar Clearance
DESCRIPTION:Jewish Federation of Central Massachusetts\nCalendar\nhttps://j
 ewishcentralmass.org/calendar/2022-calendar-clearance\n\nCalendar Clearanc
 e virtual 6/28 @ 2 pm
DTSTART;TZID=America/New_York:20220628T140000
DTEND;TZID=America/New_York:20220628T160000
END:VEVENT
END:VCALENDAR
