BEGIN:VCALENDAR
PRODID:-//eluceo/ical//2.0/EN
VERSION:2.0
CALSCALE:GREGORIAN
BEGIN:VEVENT
UID:be4a3782b13b6d7167e3e291eed25abc
DTSTAMP:20260421T193205Z
SUMMARY:2020 Hadassah Greater Boroughs Fundraiser
DESCRIPTION:Jewish Federation of Central Massachusetts\nCalendar\nhttps://j
 ewishcentralmass.org/calendar/2020-hadassah-greater-boroughs-fundraiser\n\
 n2020 Hadassah Greater Boroughs Fundraiser - Rock for a Cause
DTSTART;TZID=America/New_York:20200201T160000
DTEND;TZID=America/New_York:20200201T210000
END:VEVENT
END:VCALENDAR
