BEGIN:VCALENDAR
PRODID:-//eluceo/ical//2.0/EN
VERSION:2.0
CALSCALE:GREGORIAN
BEGIN:VEVENT
UID:fa5adb53394f971e3ffd9dc4a4ae8167
DTSTAMP:20260423T042233Z
SUMMARY:2019 Young Emissary Welcome Gathering
DESCRIPTION:Jewish Federation of Central Massachusetts\nCalendar\nhttps://j
 ewishcentralmass.org/calendar/2019-young-emissary-welcome-gathering\n\nYou
 ng Emissary Welcome Gathering\n\n \n\nMonday\, September 9\, 7PM home of 
 Joel and Liz Baker.  
DTSTART;TZID=America/New_York:20190909T190000
DTEND;TZID=America/New_York:20190909T210000
END:VEVENT
END:VCALENDAR
