BEGIN:VCALENDAR
PRODID:-//eluceo/ical//2.0/EN
VERSION:2.0
CALSCALE:GREGORIAN
BEGIN:VEVENT
UID:1d79cdc6a315fe66e72f6c3c8a419600
DTSTAMP:20260423T045422Z
SUMMARY:2019 Hadassah Donor Luncheon
DESCRIPTION:Jewish Federation of Central Massachusetts\nCalendar\nhttps://j
 ewishcentralmass.org/calendar/2019-hadassah-donor-luncheon\n\n2019 Hadassa
 h Worcester Donor Luncheon\n\nSunday\, April 28th
DTSTART;TZID=America/New_York:20190428T120000
DTEND;TZID=America/New_York:20190428T140000
END:VEVENT
END:VCALENDAR
