BEGIN:VCALENDAR
PRODID:-//eluceo/ical//2.0/EN
VERSION:2.0
CALSCALE:GREGORIAN
BEGIN:VEVENT
UID:7d55e1081db29acfc22d6b12a115adad
DTSTAMP:20260422T131912Z
SUMMARY:2019 Calendar Clearance
DESCRIPTION:Jewish Federation of Central Massachusetts\nCalendar\nhttps://j
 ewishcentralmass.org/calendar/2019-calendar-clearance\n\n2019 JFCM Calenda
 r Clearance
DTSTART;TZID=America/New_York:20190605T160000
DTEND;TZID=America/New_York:20190605T180000
END:VEVENT
END:VCALENDAR
