BEGIN:VCALENDAR
PRODID:-//eluceo/ical//2.0/EN
VERSION:2.0
CALSCALE:GREGORIAN
BEGIN:VEVENT
UID:c75395b173e44e2ab8f33026c5b7809e
DTSTAMP:20260423T134153Z
SUMMARY:2018 AIPAC New England Leadership Dinner
DESCRIPTION:Jewish Federation of Central Massachusetts\nCalendar\nhttps://j
 ewishcentralmass.org/calendar/2018-aipac-new-england-leadership-dinner\n\n
 2018 AIPAC New England Leadership Dinner\n\nApril 22\, 2018 5:30p-8:00p\n\
 nPlease join community leaders\, members of Congress\, state officials\, a
 nd students for AIPAC’S largest gathering of pro-Israel activists in New
  England!\n\n5:30 pm – Reception\n\n7:00 pm – Program\n\nRegistration 
 cost: $300 per person.\n\nAIPAC Washington Club ($1\,800) and Capitol Club
  ($3\,600) members receive a discounted price of $200.\n\nAIPAC Senate Clu
 b ($10\,000) members and above receive complimentary seats. ...
DTSTART;TZID=America/New_York:20180422T173000
DTEND;TZID=America/New_York:20180422T200000
END:VEVENT
END:VCALENDAR
