BEGIN:VCALENDAR
PRODID:-//eluceo/ical//2.0/EN
VERSION:2.0
CALSCALE:GREGORIAN
BEGIN:VEVENT
UID:a050f7427a6463d73708817bbfb0d5a0
DTSTAMP:20260423T084825Z
SUMMARY:Congregation Beth Israel Board Meeting
DESCRIPTION:Jewish Federation of Central Massachusetts\nCalendar\nhttps://j
 ewishcentralmass.org/calendar/19cal713\n\nCongregation Beth Israel Board M
 eeting
DTSTART;TZID=America/New_York:20190627T193000
DTEND;TZID=America/New_York:20190627T235959
END:VEVENT
END:VCALENDAR
