BEGIN:VCALENDAR
PRODID:-//eluceo/ical//2.0/EN
VERSION:2.0
CALSCALE:GREGORIAN
BEGIN:VEVENT
UID:c882bb0782a1d37d7be2cc944d432ae3
DTSTAMP:20260423T091836Z
SUMMARY:Temple Emanuel Sinai Annual Meeting
DESCRIPTION:Jewish Federation of Central Massachusetts\nCalendar\nhttps://j
 ewishcentralmass.org/calendar/19cal712\n\nTemple Emanuel Sinai Annual Meet
 ing
DTSTART;TZID=America/New_York:20190623T110000
DTEND;TZID=America/New_York:20190623T235959
END:VEVENT
END:VCALENDAR
