BEGIN:VCALENDAR
PRODID:-//eluceo/ical//2.0/EN
VERSION:2.0
CALSCALE:GREGORIAN
BEGIN:VEVENT
UID:2e5516266b4dd8fdb22004566fd5d70b
DTSTAMP:20260424T054722Z
SUMMARY:Father's Day
DESCRIPTION:Jewish Federation of Central Massachusetts\nCalendar\nhttps://j
 ewishcentralmass.org/calendar/19cal711\n\nFather's Day
DTSTART;TZID=America/New_York:20190616T000100
DTEND;TZID=America/New_York:20190616T235959
END:VEVENT
END:VCALENDAR
