BEGIN:VCALENDAR
PRODID:-//eluceo/ical//2.0/EN
VERSION:2.0
CALSCALE:GREGORIAN
BEGIN:VEVENT
UID:55bbe2d8184879f3d275a6d7c1dd3c91
DTSTAMP:20260423T183655Z
SUMMARY:Congregation Beth Israel Annual Meeting
DESCRIPTION:Jewish Federation of Central Massachusetts\nCalendar\nhttps://j
 ewishcentralmass.org/calendar/19cal709\n\nCongregation Beth Israel Annual 
 Meeting
DTSTART;TZID=America/New_York:20190612T193000
DTEND;TZID=America/New_York:20190612T235959
END:VEVENT
END:VCALENDAR
