BEGIN:VCALENDAR
PRODID:-//eluceo/ical//2.0/EN
VERSION:2.0
CALSCALE:GREGORIAN
BEGIN:VEVENT
UID:106ff945d5742799e9e43d9181f48409
DTSTAMP:20260421T190322Z
SUMMARY:Shavuot
DESCRIPTION:Jewish Federation of Central Massachusetts\nCalendar\nhttps://j
 ewishcentralmass.org/calendar/19cal706\n\nShavuot
DTSTART;TZID=America/New_York:20190609T000100
DTEND;TZID=America/New_York:20190610T235959
END:VEVENT
END:VCALENDAR
