BEGIN:VCALENDAR
PRODID:-//eluceo/ical//2.0/EN
VERSION:2.0
CALSCALE:GREGORIAN
BEGIN:VEVENT
UID:1efaafa2235cda254a5124e0fca04c4b
DTSTAMP:20260423T130933Z
SUMMARY:Congregation Beth Israel Board Meeting
DESCRIPTION:Jewish Federation of Central Massachusetts\nCalendar\nhttps://j
 ewishcentralmass.org/calendar/19cal704\n\nCongregation Beth Israel Board M
 eeting
DTSTART;TZID=America/New_York:20190530T193000
DTEND;TZID=America/New_York:20190530T235959
END:VEVENT
END:VCALENDAR
