BEGIN:VCALENDAR
PRODID:-//eluceo/ical//2.0/EN
VERSION:2.0
CALSCALE:GREGORIAN
BEGIN:VEVENT
UID:f052dcbcac7f0bb742f3d3d37bb4417e
DTSTAMP:20260423T055917Z
SUMMARY:Memorial Day
DESCRIPTION:Jewish Federation of Central Massachusetts\nCalendar\nhttps://j
 ewishcentralmass.org/calendar/19cal703\n\nMemorial Day
DTSTART;TZID=America/New_York:20190527T000100
DTEND;TZID=America/New_York:20190527T235959
END:VEVENT
END:VCALENDAR
