BEGIN:VCALENDAR
PRODID:-//eluceo/ical//2.0/EN
VERSION:2.0
CALSCALE:GREGORIAN
BEGIN:VEVENT
UID:7e125864dbde395d1456a83ca95939f4
DTSTAMP:20260422T074034Z
SUMMARY:Lag Ba'Omer
DESCRIPTION:Jewish Federation of Central Massachusetts\nCalendar\nhttps://j
 ewishcentralmass.org/calendar/19cal702\n\nLag Ba'Omer
DTSTART;TZID=America/New_York:20190523T000100
DTEND;TZID=America/New_York:20190523T235959
END:VEVENT
END:VCALENDAR
