BEGIN:VCALENDAR
PRODID:-//eluceo/ical//2.0/EN
VERSION:2.0
CALSCALE:GREGORIAN
BEGIN:VEVENT
UID:58cfcc9adf2e2ccf151be6544041b8dc
DTSTAMP:20260421T164520Z
SUMMARY:Jewish Healthcare Center Donor Auxillary Luncheon
DESCRIPTION:Jewish Federation of Central Massachusetts\nCalendar\nhttps://j
 ewishcentralmass.org/calendar/19cal700\n\nJewish Healthcare Center Donor A
 uxillary Luncheon
DTSTART;TZID=America/New_York:20190522T000000
DTEND;TZID=America/New_York:20190522T235959
END:VEVENT
END:VCALENDAR
