BEGIN:VCALENDAR
PRODID:-//eluceo/ical//2.0/EN
VERSION:2.0
CALSCALE:GREGORIAN
BEGIN:VEVENT
UID:14796a8b7d9053c7705b78119b021934
DTSTAMP:20260422T055233Z
SUMMARY:Beth Tikvah Annual Meeting
DESCRIPTION:Jewish Federation of Central Massachusetts\nCalendar\nhttps://j
 ewishcentralmass.org/calendar/19cal698\n\nBeth Tikvah Annual Meeting
DTSTART;TZID=America/New_York:20190519T100000
DTEND;TZID=America/New_York:20190519T235959
END:VEVENT
END:VCALENDAR
