BEGIN:VCALENDAR
PRODID:-//eluceo/ical//2.0/EN
VERSION:2.0
CALSCALE:GREGORIAN
BEGIN:VEVENT
UID:53f02937bec984a413b8ed060d19b197
DTSTAMP:20260422T212111Z
SUMMARY:Congregation B'nai Shalom Last Day of School
DESCRIPTION:Jewish Federation of Central Massachusetts\nCalendar\nhttps://j
 ewishcentralmass.org/calendar/19cal696\n\nCongregation B'nai Shalom Last D
 ay of School
DTSTART;TZID=America/New_York:20190519T090000
DTEND;TZID=America/New_York:20190519T235959
END:VEVENT
END:VCALENDAR
