BEGIN:VCALENDAR
PRODID:-//eluceo/ical//2.0/EN
VERSION:2.0
CALSCALE:GREGORIAN
BEGIN:VEVENT
UID:1a512fb4229fcc0fb982e1d94b6fc9fd
DTSTAMP:20260422T083053Z
SUMMARY:Jewish Healthcare Center Board Meeting
DESCRIPTION:Jewish Federation of Central Massachusetts\nCalendar\nhttps://j
 ewishcentralmass.org/calendar/19cal693\n\nJewish Healthcare Center Board M
 eeting
DTSTART;TZID=America/New_York:20190513T193000
DTEND;TZID=America/New_York:20190513T235959
END:VEVENT
END:VCALENDAR
