BEGIN:VCALENDAR
PRODID:-//eluceo/ical//2.0/EN
VERSION:2.0
CALSCALE:GREGORIAN
BEGIN:VEVENT
UID:82ae21e0d31ba7d53de8033e9f0c97a7
DTSTAMP:20260422T233135Z
SUMMARY:Mother's Day
DESCRIPTION:Jewish Federation of Central Massachusetts\nCalendar\nhttps://j
 ewishcentralmass.org/calendar/19cal692\n\nMother's Day
DTSTART;TZID=America/New_York:20190512T000100
DTEND;TZID=America/New_York:20190512T235959
END:VEVENT
END:VCALENDAR
