BEGIN:VCALENDAR
PRODID:-//eluceo/ical//2.0/EN
VERSION:2.0
CALSCALE:GREGORIAN
BEGIN:VEVENT
UID:da16f7c86b0071bbb6e8d08f90c9ecc1
DTSTAMP:20260422T235830Z
SUMMARY:Yom Ha'atzmaut
DESCRIPTION:Jewish Federation of Central Massachusetts\nCalendar\nhttps://j
 ewishcentralmass.org/calendar/19cal690\n\nYom Ha'atzmaut
DTSTART;TZID=America/New_York:20190509T000100
DTEND;TZID=America/New_York:20190509T235959
END:VEVENT
END:VCALENDAR
