BEGIN:VCALENDAR
PRODID:-//eluceo/ical//2.0/EN
VERSION:2.0
CALSCALE:GREGORIAN
BEGIN:VEVENT
UID:73f0f02bb4a8b249b4ea94f0a10e9dc3
DTSTAMP:20260423T043349Z
SUMMARY:Beth Tikvah Board Meeting
DESCRIPTION:Jewish Federation of Central Massachusetts\nCalendar\nhttps://j
 ewishcentralmass.org/calendar/19cal689\n\nBeth Tikvah Board Meeting
DTSTART;TZID=America/New_York:20190508T190000
DTEND;TZID=America/New_York:20190508T235959
END:VEVENT
END:VCALENDAR
