BEGIN:VCALENDAR
PRODID:-//eluceo/ical//2.0/EN
VERSION:2.0
CALSCALE:GREGORIAN
BEGIN:VEVENT
UID:9d77ad0072a6fbecbeea243b9479d3a3
DTSTAMP:20260424T011307Z
SUMMARY:Beth Tikvah Last Day of Hebrew School
DESCRIPTION:Jewish Federation of Central Massachusetts\nCalendar\nhttps://j
 ewishcentralmass.org/calendar/19cal688\n\nBeth Tikvah Last Day of Hebrew S
 chool
DTSTART;TZID=America/New_York:20190508T170000
DTEND;TZID=America/New_York:20190508T235959
END:VEVENT
END:VCALENDAR
