BEGIN:VCALENDAR
PRODID:-//eluceo/ical//2.0/EN
VERSION:2.0
CALSCALE:GREGORIAN
BEGIN:VEVENT
UID:c601cb8617e8b4b83b6de195a4dfdc26
DTSTAMP:20260421T220749Z
SUMMARY:Yom Hazikaron
DESCRIPTION:Jewish Federation of Central Massachusetts\nCalendar\nhttps://j
 ewishcentralmass.org/calendar/19cal687\n\nYom Hazikaron
DTSTART;TZID=America/New_York:20190508T000100
DTEND;TZID=America/New_York:20190508T235959
END:VEVENT
END:VCALENDAR
