BEGIN:VCALENDAR
PRODID:-//eluceo/ical//2.0/EN
VERSION:2.0
CALSCALE:GREGORIAN
BEGIN:VEVENT
UID:2bff1f00410bdf7d0d0d3e89fbe635eb
DTSTAMP:20260422T071348Z
SUMMARY:Jewish Federation of Central Mass Board Meeting
DESCRIPTION:Jewish Federation of Central Massachusetts\nCalendar\nhttps://j
 ewishcentralmass.org/calendar/19cal686\n\nJewish Federation of Central Mas
 s Board Meeting
DTSTART;TZID=America/New_York:20190507T193000
DTEND;TZID=America/New_York:20190507T235959
END:VEVENT
END:VCALENDAR
