BEGIN:VCALENDAR
PRODID:-//eluceo/ical//2.0/EN
VERSION:2.0
CALSCALE:GREGORIAN
BEGIN:VEVENT
UID:4218f770ecfb2a1ea659498ec3fb166d
DTSTAMP:20260423T072055Z
SUMMARY:Jewish Healthcare Center Finance Committee
DESCRIPTION:Jewish Federation of Central Massachusetts\nCalendar\nhttps://j
 ewishcentralmass.org/calendar/19cal685\n\nJewish Healthcare Center Finance
  Committee
DTSTART;TZID=America/New_York:20190507T073000
DTEND;TZID=America/New_York:20190507T235959
END:VEVENT
END:VCALENDAR
