BEGIN:VCALENDAR
PRODID:-//eluceo/ical//2.0/EN
VERSION:2.0
CALSCALE:GREGORIAN
BEGIN:VEVENT
UID:ac84eca983316a0def53f4d0086ace78
DTSTAMP:20260422T131528Z
SUMMARY:Jewish Community Center Finance Committee
DESCRIPTION:Jewish Federation of Central Massachusetts\nCalendar\nhttps://j
 ewishcentralmass.org/calendar/19cal684\n\nJewish Community Center Finance 
 Committee
DTSTART;TZID=America/New_York:20190506T190000
DTEND;TZID=America/New_York:20190506T213000
END:VEVENT
END:VCALENDAR
