BEGIN:VCALENDAR
PRODID:-//eluceo/ical//2.0/EN
VERSION:2.0
CALSCALE:GREGORIAN
BEGIN:VEVENT
UID:cad52c46f861b2f12d5e87299aa881b1
DTSTAMP:20260422T184332Z
SUMMARY:AIPAC NE Dinner
DESCRIPTION:Jewish Federation of Central Massachusetts\nCalendar\nhttps://j
 ewishcentralmass.org/calendar/19cal683\n\nAIPAC NE Dinner
DTSTART;TZID=America/New_York:20190505T173000
DTEND;TZID=America/New_York:20190505T210000
END:VEVENT
END:VCALENDAR
