BEGIN:VCALENDAR
PRODID:-//eluceo/ical//2.0/EN
VERSION:2.0
CALSCALE:GREGORIAN
BEGIN:VEVENT
UID:47fbbd0af20d383be88c1c0dc25e93a6
DTSTAMP:20260420T193228Z
SUMMARY:Temple Emanuel Sinai Music Program
DESCRIPTION:Jewish Federation of Central Massachusetts\nCalendar\nhttps://j
 ewishcentralmass.org/calendar/19cal682\n\nTemple Emanuel Sinai Music Progr
 am
DTSTART;TZID=America/New_York:20190505T170000
DTEND;TZID=America/New_York:20190505T235959
END:VEVENT
END:VCALENDAR
