BEGIN:VCALENDAR
PRODID:-//eluceo/ical//2.0/EN
VERSION:2.0
CALSCALE:GREGORIAN
BEGIN:VEVENT
UID:d856ff66431b6107dd21ca1a66f68484
DTSTAMP:20260423T060033Z
SUMMARY:Hadassah Donor Brunch
DESCRIPTION:Jewish Federation of Central Massachusetts\nCalendar\nhttps://j
 ewishcentralmass.org/calendar/19cal681\n\nHadassah Donor Brunch
DTSTART;TZID=America/New_York:20190505T120000
DTEND;TZID=America/New_York:20190505T235959
END:VEVENT
END:VCALENDAR
