BEGIN:VCALENDAR
PRODID:-//eluceo/ical//2.0/EN
VERSION:2.0
CALSCALE:GREGORIAN
BEGIN:VEVENT
UID:2b16b98478045a163ee36379a7e7d088
DTSTAMP:20260422T083813Z
SUMMARY:Congregation B'nai Shalom Annual Meeting
DESCRIPTION:Jewish Federation of Central Massachusetts\nCalendar\nhttps://j
 ewishcentralmass.org/calendar/19cal679\n\nCongregation B'nai Shalom Annual
  Meeting
DTSTART;TZID=America/New_York:20190505T090000
DTEND;TZID=America/New_York:20190505T235959
END:VEVENT
END:VCALENDAR
