BEGIN:VCALENDAR
PRODID:-//eluceo/ical//2.0/EN
VERSION:2.0
CALSCALE:GREGORIAN
BEGIN:VEVENT
UID:655f6932b625b0e815a9d364041641ea
DTSTAMP:20260423T155853Z
SUMMARY:Yom Hashoah
DESCRIPTION:Jewish Federation of Central Massachusetts\nCalendar\nhttps://j
 ewishcentralmass.org/calendar/19cal678\n\nYom Hashoah
DTSTART;TZID=America/New_York:20190502T000100
DTEND;TZID=America/New_York:20190502T235959
END:VEVENT
END:VCALENDAR
