BEGIN:VCALENDAR
PRODID:-//eluceo/ical//2.0/EN
VERSION:2.0
CALSCALE:GREGORIAN
BEGIN:VEVENT
UID:16d572301d1a2c3e1111485005e25280
DTSTAMP:20260422T214732Z
SUMMARY:Community Wide Yom Hashoah Commemoration
DESCRIPTION:Jewish Federation of Central Massachusetts\nCalendar\nhttps://j
 ewishcentralmass.org/calendar/19cal677\n\nCommunity Wide Yom Hashoah Comme
 moration
DTSTART;TZID=America/New_York:20190501T000000
DTEND;TZID=America/New_York:20190501T235959
END:VEVENT
END:VCALENDAR
