BEGIN:VCALENDAR
PRODID:-//eluceo/ical//2.0/EN
VERSION:2.0
CALSCALE:GREGORIAN
BEGIN:VEVENT
UID:ae1725876862c0176314ea7210b1fd8e
DTSTAMP:20260422T142448Z
SUMMARY:Temple Emanuel Sinai Brotherhood Breakfast
DESCRIPTION:Jewish Federation of Central Massachusetts\nCalendar\nhttps://j
 ewishcentralmass.org/calendar/19cal675\n\nTemple Emanuel Sinai Brotherhood
  Breakfast
DTSTART;TZID=America/New_York:20190428T094500
DTEND;TZID=America/New_York:20190428T235959
END:VEVENT
END:VCALENDAR
