BEGIN:VCALENDAR
PRODID:-//eluceo/ical//2.0/EN
VERSION:2.0
CALSCALE:GREGORIAN
BEGIN:VEVENT
UID:2dbd48043b19ed92a3c0e4491a3f5eab
DTSTAMP:20260422T004052Z
SUMMARY:JFCM Mimouna Young Emissary event
DESCRIPTION:Jewish Federation of Central Massachusetts\nCalendar\nhttps://j
 ewishcentralmass.org/calendar/19cal674\n\nJFCM Mimouna Young Emissary even
 t
DTSTART;TZID=America/New_York:20190430T000000
DTEND;TZID=America/New_York:20190430T235959
END:VEVENT
END:VCALENDAR
