BEGIN:VCALENDAR
PRODID:-//eluceo/ical//2.0/EN
VERSION:2.0
CALSCALE:GREGORIAN
BEGIN:VEVENT
UID:5db2378e96c971887972893c94ff5b64
DTSTAMP:20260423T115840Z
SUMMARY:First Seder
DESCRIPTION:Jewish Federation of Central Massachusetts\nCalendar\nhttps://j
 ewishcentralmass.org/calendar/19cal671\n\nFirst Seder
DTSTART;TZID=America/New_York:20190419T000100
DTEND;TZID=America/New_York:20190419T235959
END:VEVENT
END:VCALENDAR
