BEGIN:VCALENDAR
PRODID:-//eluceo/ical//2.0/EN
VERSION:2.0
CALSCALE:GREGORIAN
BEGIN:VEVENT
UID:935cb43383ec0bee366c669629735d2f
DTSTAMP:20260424T032137Z
SUMMARY:Congregation Beth Israel Board Meeting
DESCRIPTION:Jewish Federation of Central Massachusetts\nCalendar\nhttps://j
 ewishcentralmass.org/calendar/19cal670\n\nCongregation Beth Israel Board M
 eeting
DTSTART;TZID=America/New_York:20190418T193000
DTEND;TZID=America/New_York:20190418T235959
END:VEVENT
END:VCALENDAR
