BEGIN:VCALENDAR
PRODID:-//eluceo/ical//2.0/EN
VERSION:2.0
CALSCALE:GREGORIAN
BEGIN:VEVENT
UID:9ec5dcc539b987275f8e760fb7e3c930
DTSTAMP:20260423T121500Z
SUMMARY:Congregation Beth Israel Brotherhood Breakfast
DESCRIPTION:Jewish Federation of Central Massachusetts\nCalendar\nhttps://j
 ewishcentralmass.org/calendar/19cal669\n\nCongregation Beth Israel Brother
 hood Breakfast
DTSTART;TZID=America/New_York:20190414T093000
DTEND;TZID=America/New_York:20190414T235959
END:VEVENT
END:VCALENDAR
