BEGIN:VCALENDAR
PRODID:-//eluceo/ical//2.0/EN
VERSION:2.0
CALSCALE:GREGORIAN
BEGIN:VEVENT
UID:0ab4b22a1499af14628d586acc498448
DTSTAMP:20260425T014850Z
SUMMARY:Beth Tikvah Board Meeting
DESCRIPTION:Jewish Federation of Central Massachusetts\nCalendar\nhttps://j
 ewishcentralmass.org/calendar/19cal667\n\nBeth Tikvah Board Meeting
DTSTART;TZID=America/New_York:20190410T190000
DTEND;TZID=America/New_York:20190410T235959
END:VEVENT
END:VCALENDAR
