BEGIN:VCALENDAR
PRODID:-//eluceo/ical//2.0/EN
VERSION:2.0
CALSCALE:GREGORIAN
BEGIN:VEVENT
UID:ae2a438d90fb613dd426af9ed61f2939
DTSTAMP:20260422T044648Z
SUMMARY:PJ Library @ Beth Tikvah
DESCRIPTION:Jewish Federation of Central Massachusetts\nCalendar\nhttps://j
 ewishcentralmass.org/calendar/19cal665\n\nPJ Library @ Beth Tikvah
DTSTART;TZID=America/New_York:20190407T090000
DTEND;TZID=America/New_York:20190407T235959
END:VEVENT
END:VCALENDAR
