BEGIN:VCALENDAR
PRODID:-//eluceo/ical//2.0/EN
VERSION:2.0
CALSCALE:GREGORIAN
BEGIN:VEVENT
UID:a51ca21cdded7d5ff375a74bf0c638f4
DTSTAMP:20260421T092723Z
SUMMARY:Jewish Community Center Good Deeds Day Community wide
DESCRIPTION:Jewish Federation of Central Massachusetts\nCalendar\nhttps://j
 ewishcentralmass.org/calendar/19cal664\n\nJewish Community Center Good Dee
 ds Day Community wide
DTSTART;TZID=America/New_York:20190407T090000
DTEND;TZID=America/New_York:20190407T235959
END:VEVENT
END:VCALENDAR
